BEGIN:VCALENDAR
PRODID:-//Ben Fortuna//iCal4j 1.0//EN
VERSION:2.0
CALSCALE:GREGORIAN
BEGIN:VTIMEZONE
TZID:Europe/Berlin
LAST-MODIFIED:20201010T011803Z
TZURL:http://tzurl.org/zoneinfo/Europe/Berlin
X-LIC-LOCATION:Europe/Berlin
X-PROLEPTIC-TZNAME:LMT
BEGIN:STANDARD
TZNAME:CET
TZOFFSETFROM:+005328
TZOFFSETTO:+0100
DTSTART:18930401T000000
END:STANDARD
BEGIN:DAYLIGHT
TZNAME:CEST
TZOFFSETFROM:+0100
TZOFFSETTO:+0200
DTSTART:19160430T230000
RDATE:19400401T020000
RDATE:19430329T020000
RDATE:19460414T020000
RDATE:19470406T030000
RDATE:19480418T020000
RDATE:19490410T020000
RDATE:19800406T020000
END:DAYLIGHT
BEGIN:STANDARD
TZNAME:CET
TZOFFSETFROM:+0200
TZOFFSETTO:+0100
DTSTART:19161001T010000
RDATE:19421102T030000
RDATE:19431004T030000
RDATE:19441002T030000
RDATE:19451118T030000
RDATE:19461007T030000
END:STANDARD
BEGIN:DAYLIGHT
TZNAME:CEST
TZOFFSETFROM:+0100
TZOFFSETTO:+0200
DTSTART:19170416T020000
RRULE:FREQ=YEARLY;UNTIL=19180415T010000Z;BYMONTH=4;BYDAY=3MO
END:DAYLIGHT
BEGIN:STANDARD
TZNAME:CET
TZOFFSETFROM:+0200
TZOFFSETTO:+0100
DTSTART:19170917T030000
RRULE:FREQ=YEARLY;UNTIL=19180916T010000Z;BYMONTH=9;BYDAY=3MO
END:STANDARD
BEGIN:DAYLIGHT
TZNAME:CEST
TZOFFSETFROM:+0100
TZOFFSETTO:+0200
DTSTART:19440403T020000
RRULE:FREQ=YEARLY;UNTIL=19450402T010000Z;BYMONTH=4;BYDAY=1MO
END:DAYLIGHT
BEGIN:DAYLIGHT
TZNAME:CEMT
TZOFFSETFROM:+0200
TZOFFSETTO:+0300
DTSTART:19450524T020000
RDATE:19470511T030000
END:DAYLIGHT
BEGIN:DAYLIGHT
TZNAME:CEST
TZOFFSETFROM:+0300
TZOFFSETTO:+0200
DTSTART:19450924T030000
RDATE:19470629T030000
END:DAYLIGHT
BEGIN:STANDARD
TZNAME:CET
TZOFFSETFROM:+0100
TZOFFSETTO:+0100
DTSTART:19460101T000000
RDATE:19800101T000000
END:STANDARD
BEGIN:STANDARD
TZNAME:CET
TZOFFSETFROM:+0200
TZOFFSETTO:+0100
DTSTART:19471005T030000
RRULE:FREQ=YEARLY;UNTIL=19491002T010000Z;BYMONTH=10;BYDAY=1SU
END:STANDARD
BEGIN:STANDARD
TZNAME:CET
TZOFFSETFROM:+0200
TZOFFSETTO:+0100
DTSTART:19800928T030000
RRULE:FREQ=YEARLY;UNTIL=19950924T010000Z;BYMONTH=9;BYDAY=-1SU
END:STANDARD
BEGIN:DAYLIGHT
TZNAME:CEST
TZOFFSETFROM:+0100
TZOFFSETTO:+0200
DTSTART:19810329T020000
RRULE:FREQ=YEARLY;BYMONTH=3;BYDAY=-1SU
END:DAYLIGHT
BEGIN:STANDARD
TZNAME:CET
TZOFFSETFROM:+0200
TZOFFSETTO:+0100
DTSTART:19961027T030000
RRULE:FREQ=YEARLY;BYMONTH=10;BYDAY=-1SU
END:STANDARD
END:VTIMEZONE
BEGIN:VEVENT
DTSTAMP:20260421T081821Z
DTSTART;VALUE=DATE:20260620
DTEND;VALUE=DATE:20260621
SUMMARY:Sound of Idstein
CREATED:20260211T105957Z
LAST-MODIFIED:20260211T115914Z
DESCRIPTION:Die Stimmung in Idstein ist tatsächlich einzigartig! Die fant
 astische Altstadtkulisse und mittendrin sieben Bühnen und 37 Bands\, die
  die Stadt wieder zum musikalischen Mittelpunkt der Region machen. Das P
 rogramm ist wieder breit aufgestellt\, mal Rock & Pop\, mal Jazz & Soul\
 , mal Swing\, Blues oder Samba - immer im höchsten Maß unterhaltsam\, hu
 morvoll\, amüsant und partytauglich. Auch für die jungen Besucher wird m
 it DJ und HipHop einiges geboten.\n\nOb international oder lokal\, mit l
 angjähriger Erfahrung oder Newcomer auf der Bühne – die Musikwelt ist vi
 elfältig und genau so soll der „Sound of Idstein“ auch sein. Lassen Sie 
 sich überraschen.
LOCATION:Altstadt Idstein
X-LOCATION-NAME:Altstadt Idstein
ORGANIZER;CN=IdsteinEvent e.V.:mailto:festival@idstein.de
X-ORGANIZER-NAME:IdsteinEvent e.V.
X-ORGANIZER-EMAIL:festival@idstein.de
CONTACT:Ariane Özer\,festival@idstein.de\,06126 78-614
X-CONTACT-GIVEN-NAME:Ariane
X-CONTACT-FAMILY-NAME:Özer
X-CONTACT-EMAIL:festival@idstein.de
X-CONTACT-TELEPHONE:06126 78-614
X-IONAS-CATEGORY:Konzert
CATEGORIES:Konzert
ATTACH;FMTTYPE=image/jpeg:https://www.idstein.de/kalender/2026/juni/2026-
 06-20-sound-of-idstein/idstein-jazzfestival-bild-2-foto-grandpierre-desi
 gn-gmbh.jpg?cid=wwn.47f5
UID:5b19dccb-c65d-4f61-b032-bfe560138757
END:VEVENT
END:VCALENDAR
