BEGIN:VCALENDAR
PRODID:-//Ben Fortuna//iCal4j 1.0//EN
VERSION:2.0
CALSCALE:GREGORIAN
BEGIN:VTIMEZONE
TZID:Europe/Berlin
LAST-MODIFIED:20201010T011803Z
TZURL:http://tzurl.org/zoneinfo/Europe/Berlin
X-LIC-LOCATION:Europe/Berlin
X-PROLEPTIC-TZNAME:LMT
BEGIN:STANDARD
TZNAME:CET
TZOFFSETFROM:+005328
TZOFFSETTO:+0100
DTSTART:18930401T000000
END:STANDARD
BEGIN:DAYLIGHT
TZNAME:CEST
TZOFFSETFROM:+0100
TZOFFSETTO:+0200
DTSTART:19160430T230000
RDATE:19400401T020000
RDATE:19430329T020000
RDATE:19460414T020000
RDATE:19470406T030000
RDATE:19480418T020000
RDATE:19490410T020000
RDATE:19800406T020000
END:DAYLIGHT
BEGIN:STANDARD
TZNAME:CET
TZOFFSETFROM:+0200
TZOFFSETTO:+0100
DTSTART:19161001T010000
RDATE:19421102T030000
RDATE:19431004T030000
RDATE:19441002T030000
RDATE:19451118T030000
RDATE:19461007T030000
END:STANDARD
BEGIN:DAYLIGHT
TZNAME:CEST
TZOFFSETFROM:+0100
TZOFFSETTO:+0200
DTSTART:19170416T020000
RRULE:FREQ=YEARLY;UNTIL=19180415T010000Z;BYMONTH=4;BYDAY=3MO
END:DAYLIGHT
BEGIN:STANDARD
TZNAME:CET
TZOFFSETFROM:+0200
TZOFFSETTO:+0100
DTSTART:19170917T030000
RRULE:FREQ=YEARLY;UNTIL=19180916T010000Z;BYMONTH=9;BYDAY=3MO
END:STANDARD
BEGIN:DAYLIGHT
TZNAME:CEST
TZOFFSETFROM:+0100
TZOFFSETTO:+0200
DTSTART:19440403T020000
RRULE:FREQ=YEARLY;UNTIL=19450402T010000Z;BYMONTH=4;BYDAY=1MO
END:DAYLIGHT
BEGIN:DAYLIGHT
TZNAME:CEMT
TZOFFSETFROM:+0200
TZOFFSETTO:+0300
DTSTART:19450524T020000
RDATE:19470511T030000
END:DAYLIGHT
BEGIN:DAYLIGHT
TZNAME:CEST
TZOFFSETFROM:+0300
TZOFFSETTO:+0200
DTSTART:19450924T030000
RDATE:19470629T030000
END:DAYLIGHT
BEGIN:STANDARD
TZNAME:CET
TZOFFSETFROM:+0100
TZOFFSETTO:+0100
DTSTART:19460101T000000
RDATE:19800101T000000
END:STANDARD
BEGIN:STANDARD
TZNAME:CET
TZOFFSETFROM:+0200
TZOFFSETTO:+0100
DTSTART:19471005T030000
RRULE:FREQ=YEARLY;UNTIL=19491002T010000Z;BYMONTH=10;BYDAY=1SU
END:STANDARD
BEGIN:STANDARD
TZNAME:CET
TZOFFSETFROM:+0200
TZOFFSETTO:+0100
DTSTART:19800928T030000
RRULE:FREQ=YEARLY;UNTIL=19950924T010000Z;BYMONTH=9;BYDAY=-1SU
END:STANDARD
BEGIN:DAYLIGHT
TZNAME:CEST
TZOFFSETFROM:+0100
TZOFFSETTO:+0200
DTSTART:19810329T020000
RRULE:FREQ=YEARLY;BYMONTH=3;BYDAY=-1SU
END:DAYLIGHT
BEGIN:STANDARD
TZNAME:CET
TZOFFSETFROM:+0200
TZOFFSETTO:+0100
DTSTART:19961027T030000
RRULE:FREQ=YEARLY;BYMONTH=10;BYDAY=-1SU
END:STANDARD
END:VTIMEZONE
BEGIN:VEVENT
DTSTAMP:20260421T113009Z
DTSTART;TZID=Europe/Berlin:20260306T190000
DTEND;TZID=Europe/Berlin:20260306T235959
SUMMARY:Gruppenabend
CREATED:20251106T143417Z
LAST-MODIFIED:20251106T143417Z
DESCRIPTION:Strickkaffee\, Spieleabende und vieles mehr in geselliger Run
 de - das sind die zur Tradition gewordenen und kostenfreien monatlichen 
 Gruppenabende im Kulturbahnhof. Sowohl Gruppen als auch Einzelpersonen s
 ind herzlich willkommen! Die Teilnahme ist ohne Anmeldung möglich und ko
 stenfrei\, Getränke gibt es gegen eine Spende.
LOCATION:Kulturbahnhof Idstein
X-LOCATION-NAME:Kulturbahnhof Idstein
X-STREET-ADDRESS:Am Güterbahnhof 2
X-POSTAL-CODE:65510
X-LOCALITY:Idstein
GEO:50.21686698374234;8.257491869049167
X-ORGANIZER-NAME:
X-ORGANIZER-TELEPHONE:0612678625
X-ORGANIZER-WEBSITE:https://www.kulturbahnhof-idstein.de/
CONTACT:Leandra Leuchtmann\,kulturbahnhof@idstein.de\,0612678625
X-CONTACT-GIVEN-NAME:Leandra
X-CONTACT-FAMILY-NAME:Leuchtmann
X-CONTACT-EMAIL:kulturbahnhof@idstein.de
X-CONTACT-TELEPHONE:0612678625
URL:https://www.kulturbahnhof-idstein.de/
ATTACH;FMTTYPE=image/jpeg;X-COPYRIGHT="© Pixabay":https://www.idstein.de/
 kalender/2026/maerz/2026-03-06-gruppenabend/gruppenabend.jpg?cid=wnm.43i
 h
UID:cd1237a1-523a-4e79-a7ed-7bf44d0bc66d
X-PRICE:Keine Angabe
END:VEVENT
END:VCALENDAR
