BEGIN:VCALENDAR
PRODID:-//Ben Fortuna//iCal4j 1.0//EN
VERSION:2.0
CALSCALE:GREGORIAN
BEGIN:VTIMEZONE
TZID:Europe/Berlin
LAST-MODIFIED:20201010T011803Z
TZURL:http://tzurl.org/zoneinfo/Europe/Berlin
X-LIC-LOCATION:Europe/Berlin
X-PROLEPTIC-TZNAME:LMT
BEGIN:STANDARD
TZNAME:CET
TZOFFSETFROM:+005328
TZOFFSETTO:+0100
DTSTART:18930401T000000
END:STANDARD
BEGIN:DAYLIGHT
TZNAME:CEST
TZOFFSETFROM:+0100
TZOFFSETTO:+0200
DTSTART:19160430T230000
RDATE:19400401T020000
RDATE:19430329T020000
RDATE:19460414T020000
RDATE:19470406T030000
RDATE:19480418T020000
RDATE:19490410T020000
RDATE:19800406T020000
END:DAYLIGHT
BEGIN:STANDARD
TZNAME:CET
TZOFFSETFROM:+0200
TZOFFSETTO:+0100
DTSTART:19161001T010000
RDATE:19421102T030000
RDATE:19431004T030000
RDATE:19441002T030000
RDATE:19451118T030000
RDATE:19461007T030000
END:STANDARD
BEGIN:DAYLIGHT
TZNAME:CEST
TZOFFSETFROM:+0100
TZOFFSETTO:+0200
DTSTART:19170416T020000
RRULE:FREQ=YEARLY;UNTIL=19180415T010000Z;BYMONTH=4;BYDAY=3MO
END:DAYLIGHT
BEGIN:STANDARD
TZNAME:CET
TZOFFSETFROM:+0200
TZOFFSETTO:+0100
DTSTART:19170917T030000
RRULE:FREQ=YEARLY;UNTIL=19180916T010000Z;BYMONTH=9;BYDAY=3MO
END:STANDARD
BEGIN:DAYLIGHT
TZNAME:CEST
TZOFFSETFROM:+0100
TZOFFSETTO:+0200
DTSTART:19440403T020000
RRULE:FREQ=YEARLY;UNTIL=19450402T010000Z;BYMONTH=4;BYDAY=1MO
END:DAYLIGHT
BEGIN:DAYLIGHT
TZNAME:CEMT
TZOFFSETFROM:+0200
TZOFFSETTO:+0300
DTSTART:19450524T020000
RDATE:19470511T030000
END:DAYLIGHT
BEGIN:DAYLIGHT
TZNAME:CEST
TZOFFSETFROM:+0300
TZOFFSETTO:+0200
DTSTART:19450924T030000
RDATE:19470629T030000
END:DAYLIGHT
BEGIN:STANDARD
TZNAME:CET
TZOFFSETFROM:+0100
TZOFFSETTO:+0100
DTSTART:19460101T000000
RDATE:19800101T000000
END:STANDARD
BEGIN:STANDARD
TZNAME:CET
TZOFFSETFROM:+0200
TZOFFSETTO:+0100
DTSTART:19471005T030000
RRULE:FREQ=YEARLY;UNTIL=19491002T010000Z;BYMONTH=10;BYDAY=1SU
END:STANDARD
BEGIN:STANDARD
TZNAME:CET
TZOFFSETFROM:+0200
TZOFFSETTO:+0100
DTSTART:19800928T030000
RRULE:FREQ=YEARLY;UNTIL=19950924T010000Z;BYMONTH=9;BYDAY=-1SU
END:STANDARD
BEGIN:DAYLIGHT
TZNAME:CEST
TZOFFSETFROM:+0100
TZOFFSETTO:+0200
DTSTART:19810329T020000
RRULE:FREQ=YEARLY;BYMONTH=3;BYDAY=-1SU
END:DAYLIGHT
BEGIN:STANDARD
TZNAME:CET
TZOFFSETFROM:+0200
TZOFFSETTO:+0100
DTSTART:19961027T030000
RRULE:FREQ=YEARLY;BYMONTH=10;BYDAY=-1SU
END:STANDARD
END:VTIMEZONE
BEGIN:VEVENT
DTSTAMP:20260424T133615Z
DTSTART;TZID=Europe/Berlin:20260513T180000
DTEND;TZID=Europe/Berlin:20260513T230000
SUMMARY:Idsteiner Weinfest
CREATED:20260326T085426Z
LAST-MODIFIED:20260326T090019Z
DESCRIPTION:Vom 13. bis 17. Mai 2026 lädt die Idsteiner Innenstadt wieder
  zum Genießen\, Verweilen und Feiern ein: Auf dem König-Adolf-Platz find
 et das 35. Rheingauer Weinfest statt – ein Highlight für Weinliebhaber u
 nd Besucher aus der Region.\n\nEin besonderer Höhepunkt ist die feierlic
 he Eröffnung am Donnerstag\, 14. Mai 2026\, um 12:30 Uhr\, begleitet von
  den Rheingauer Weinmajestäten. Sportlich wird es am Freitag\, 15. Mai 2
 026\, wenn der 21. Idsteiner Stadtlauf durch die Innenstadt führt und fü
 r zusätzliche Stimmung sorgt.\n\nÖffnungszeiten des Weinfestes:\n\nMittw
 och: 18:00 – 23:00 UhrDonnerstag: 12:00 – 23:00 UhrFreitag: 16:00 – 23:0
 0 UhrSamstag: 12:00 – 23:00 UhrSonntag: 12:00 – 18:00 Uhr\n\n\nWir freue
 n uns auf zahlreiche Besucher und Besucherinnen!
LOCATION:König-Adolf-Platz 2
X-LOCATION-NAME:König-Adolf-Platz 2
X-ORGANIZER-NAME:Rheingauer Weinwerbung GmbH | Rheingauer Weinbauverband 
 e.V. 
X-ORGANIZER-WEBSITE:https://www.rheingau.com/weinwerbung
X-IONAS-CATEGORY:Fest
CATEGORIES:Fest
ATTACH;FMTTYPE=image/jpeg:https://www.idstein.de/kalender/2026/mai/2026-0
 5-13-idsteiner-weinfest/post-beitrag-weinfeste-2026-neues-format.jpg?cid
 =x01.4922
UID:e992ec0b-1db4-4c39-b058-540ad175750a
END:VEVENT
END:VCALENDAR
